Workbook

Sheet מחוון
A1: מס' מציע: ______________________ | L1: מינ' | M1: 7
L2: מקס' | M2: 10
A3: סעיף ראשי | B3: סעיף משנה | C3: ההיקף הנדרש | D3: מרכיב ציון | F3: משקל | G3: היקף שהוצג | H3: ציון משוקלל לסעיף | I3: ציון כולל | J3: היקף מינימום | K3: היקף מקסימום | L3: הפרש | M3: =M2-M1 -> 3
A4: ניסיון המציע | B4: ניסיון בארגון וניהול מערך הוראה | C4: שנות ניסיון בעמידה במלוא דרישות תנאי הסף 2.8.5 | D4: פחות מ- 3 שנים | E4: פסול | F4: 0.25 | H4: =IF(G4<J4,0,IF(G4=J4,$M$1,IF(G4>K4,$M$2,$M$3/(K4-J4)*(G4-J4)+$M$1))) -> 0 | J4: 3 | K4: 6 | L4: =SUM(F4:F17) -> 1
D5: 3 שנים | E5: =$M$1 -> 7
D6: 4-5 שנים | E6: לכל שנה +1.00
D7: 6 שנים ומעלה | E7: 10
C8: תלמידים שהשתתפו בלמידה במצטבר בחמש השנים האחרונות | D8: פחות מ- 3,000 תלמידים | E8: פסול | F8: 0.2 | H8: =IF(G8<J8,0,IF(G8=J8,$M$1,IF(G8>K8,$M$2,$M$3/(K8-J8)*(G8-J8)+$M$1))) -> 0 | J8: 1000 | K8: 2000
D9: 3,001 - 4,000 | E9: =$M$1 -> 7
D10: 4,001 - 5,000 | E10: 8
D11: 5,001 - 6,000 | E11: 9
D12: 6,001 תלמידים ומעלה | E12: 10
C13: בתי ספר בהם סופקה הלמידה במצטבר בחמש השנים האחרונות | D13: פחות מ- 4 בתי ספר | E13: פסול | F13: 0.35 | H13: =IF(G13<J13,0,IF(G13=J13,$M$1,IF(G13>K13,$M$2,$M$3/(K13-J13)*(G13-J13)+$M$1))) -> 0 | J13: 4 | K13: 8
D14: 4 בתי ספר | E14: =$M$1 -> 7
D15: 5-7 בתי ספר | E15: לכל בית ספר +0.75
D16: 8 בתי ספר ומעלה | E16: 10
B17: התאמת הניסיון המוצג לנדרש במכרז | C17: ציון 1 - 10 | D17: התאמת הניסיון לנדרש | F17: 0.2 | H17: =G17 -> 0 | I17: =H17*F17 -> 0
A18: חוות דעת על המציע | B18: חוות דעת שנלקחה מאנשי הקשר כפי שמפורט בטופס בדיקת ההצעות | C18: ציון 1 - 10 | D18: חוות דעת מס' 1 | F18: 0.333 | H18: =G18*F18 -> 0 | L18: =SUM(F18:F20) -> 1
D19: חוות דעת מס' 2 | F19: 0.333 | H19: =G19*F19 -> 0
D20: חוות דעת מס' 3 | F20: 0.334 | H20: =G20*F20 -> 0
A21: צוות המציע | B21: מנהל התוכנית | C21: שנות ניסיון בניהול של פעילות חינוכית | D21: פחות מ- 3 שנים | E21: 0 | F21: 0.1 | H21: =IF(G21<J21,0,IF(G21=J21,$M$1,IF(G21>K21,$M$2,$M$3/(K21-J21)*(G21-J21)+$M$1))) -> 0 | J21: 3 | K21: 5 | L21: =SUM(F21:F39) -> 1
D22: 3 שנים | E22: =$M$1 -> 7
D23: 4 שנים | E23: 8.5
D24: 5 שנים ומעלה | E24: 10
C25: תלמידים בחמש השנים האחרונות | D25: פחות מ- 3,000 תלמידים | E25: 0 | F25: 0.2 | H25: =IF(G25<J25,0,IF(G25=J25,$M$1,IF(G25>K25,$M$2,$M$3/(K25-J25)*(G25-J25)+$M$1))) -> 0 | J25: 1000 | K25: 2000
D26: 3,000 תלמידים | E26: =$M$1 -> 7
D27: 3.001 - 4.500 תלמידים | E27: 8
D28: 4,501 - 6,000 תלמידים | E28: 9
D29: 6,001 תלמידים ומעלה | E29: 10
C30: הכשרה | D30: פחות מתואר ראשון | E30: 0 | F30: 0.1 | H30: =G30 -> 0
D31: תואר ראשון | E31: 8
D32: תואר שני | E32: 9
D33: הכשרה רלוונטית נוספת | E33: +1
C34: תעודת הוראה או רשיון הוראה | D34: אינו בעל תעודה או רשיון הוראה כנדרש | E34: 0 | F34: 0.1 | H34: =G34 -> 0
D35: בעל תעודה או רשיון הוראה כנדרש | E35: 10
C36: ראיון | D36: ניסיון בתכלול מערך נרחב של קבוצות הוראה. | F36: =50/4/100 -> 0.125
D37: ניסיון בניהול אופרציות דומות בהיבטי ניהול כוח אדם והקצאת משאבים. | F37: =50/4/100 -> 0.125
D38: ניסיון בניהול מערכות מידע להפעלת תוכניות דומות. | F38: =50/4/100 -> 0.125
D39: התרשמות כללית | F39: =50/4/100 -> 0.125
B40: מנהל פדגוגי לב"מ | C40: שנות ניסיון בהוראה | D40: פחות מ-10 שנות ניסיון | E40: 0 | F40: 0.18 | H40: =+G40 -> 0 | L40: =SUM(F40:F58) -> 1
...

Sheet קריטריונים
A1: המשרד | B1: משרד החינוך | C1: מכרז מס': | D1: הנושא: הפעלת תוכנית לשיפור זכאות לבגרות - תוכנית לב"ם (לקראת בגרות מלאה) | I1: דף: | J1: 1 | K1: קוד מכרז:
A2: היחידה | B2: אגף א' חינוך על יסודי | C2: ='סיכום הצעות'!C2 -> 40/10.2023 | I2: מתוך: | J2: 2 | K2: תאריך עדכון:
A3: פרוט הנושא | C3: יחידת ספירה | D3: משקל | E3: הצעה: | F3: 1 | G3: הצעה: | H3: 2 | I3: הצעה: | J3: 3 | K3: הצעה: | L3: 4 | M3: הערות
D4: יחסי | E4: ערך | F4: ציון | G4: ערך | H4: ציון | I4: ערך | J4: ציון | K4: ערך | L4: ציון
B5: ניסיון בארגון וניהול מערך הוראה | C5: עפ"י היקפים מינימליים נדרשים | D5: 0.8 | M5: עפ"י המחוון
B6: התאמה של נסיון המציע לפעילות הנדרשת במכרז | C6: ציון 1-10 | D6: 0.2 | M6: עפ"י המחוון
B7: ציון משוקלל לנושא | D7: =SUM(D5:D6) -> 1
A8: חוות דעת | B8: חוות דעת | C8: ציון 1-10 | D8: 1 | M8: עפ"י המחוון
B9: ציון משוקלל לנושא | D9: =SUM(D8) -> 1
A10: מנהל תוכנית | B10: ניסיון של מנהל תוכנית | C10: ציון 1-10 | D10: =מחוון!F21+מחוון!F25 -> 0.3 | M10: עפ"י המחוון
B11: הכשרה של מנהל תוכנית | C11: ציון 1-10 | D11: 0.2 | M11: עפ"י המחוון
B12: ראיון | C12: ציון 1-10 | D12: 0.5
B13: ציון משוקלל לנושא | D13: =SUM(D10:D12) -> 1
A14: =מחוון!B40 -> מנהל פדגוגי לב"מ | B14: ניסיון של מנהל פדגוגי לב"מ | C14: ציון 1-10 | D14: 0.35
B15: הכשרה של מנהל פדגוגי לב"מ | C15: ציון 1-10 | D15: 0.15
B16: ראיון | C16: ציון 1-10 | D16: 0.5
B17: ציון משוקלל לנושא | D17: =SUM(D14:D16) -> 1
A18: =מחוון!B59 -> מנהל פדגוגי המחצית השלישית | B18: ניסיון מנהל פדגוגי המחצית השלישית | C18: ציון 1-10 | D18: 0.35 | M18: עפ"י המחוון
B19: הכשרה מנהל פדגוגי המחצית השלישית | C19: ציון 1-10 | D19: 0.15 | M19: עפ"י המחוון
B20: ראיון | C20: ציון 1-10 | D20: 0.5
B21: ציון משוקלל לנושא | D21: =SUM(D18:D20) -> 1
A22: הצעת המחיר | B22: פרוט הנושא | C22: יחידת חישוב | D22: כמות | E22: הצעה: | F22: 1 | G22: הצעה: | H22: 2 | I22: הצעה: | J22: 3 | K22: הצעה: | L22: 4 | M22: הערות
E23: ערך | F23: ציון | G23: ערך | H23: ציון | I23: ערך | J23: ציון | K23: ערך | L23: ציון
B24: לב"מ
B25: מחיר להפעלת קבוצה אחת בהיקף 20 שעות | C25: מחיר לקבוצה | D25: 700
B26: מחיר להפעלת קבוצה אחת בהיקף 40 שעות | C26: מחיר לקבוצה | D26: 700
B27: המחצית השלישית
B28: בית ספר איזורי
B29: מחיר לחצי יחידה לקבוצה הלומדת יחידת לימוד אחת (40 שעות לימודים) | C29: מחיר לקבוצה | D29: 50
B30: מחיר לחצי יחידה לקבוצה הלומדת שתי יחידות לימוד (50 שעות לימודים) | C30: מחיר לקבוצה | D30: 50
B31: מחיר לקבוצה הלומדת יחידת לימוד אחת (80 שעות לימודים) | C31: מחיר לקבוצה | D31: 200
B32: מחיר לקבוצה הלומדת 2 יחידות לימוד (100 שעות לימודים) | C32: מחיר לקבוצה | D32: 100
B33: מרכז למידה בית ספרי
B34: מחיר לחצי יחידה לקבוצה הלומדת יחידת לימוד אחת (40 שעות לימודים) | C34: מחיר לקבוצה | D34: 20
B35: מחיר לחצי יחידה לקבוצה הלומדת שתי יחידות לימוד (50 שעות לימודים) | C35: מחיר לקבוצה | D35: 20
B36: מחיר לקבוצה הלומדת יחידת לימוד אחת (80 שעות לימודים) | C36: מחיר לקבוצה | D36: 20
B37: מחיר לקבוצה הלומדת 2 יחידות לימוד (100 שעות לימודים) | C37: מחיר לקבוצה | D37: 20
B38: סה"כ הצעת המחיר ללא מע"מ
B39: סה"כ הצעת המחיר כולל מע"מ

Sheet סיכום הצעות
A1: משרד החינוך | C1: מכרז מס': | D1: הנושא:הפעלת תוכנית לשיפור זכאות לבגרות - תוכנית לב"ם (לקראת בגרות מלאה) | J1: דף: | K1: 2 | L1: קוד מכרז:
A2: אגף א' חינוך על יסודי | C2: 40/10.2023 | J2: מתוך: | K2: 2 | L2: תאריך עדכון:
D3: סה"כ משקל סעיפי איכות: | I3: 0.6 | J3: משקל מחיר: | K3: 0.4 | L3: הערכה כוללת
A4: מספר | B4: שם המציע | C4: הקריטריון | D4: נסיון הגוף המציע | E4: חוות דעת | F4: מנהל תוכנית | G4: =מחוון!B40 -> מנהל פדגוגי לב"מ | H4: =מחוון!B59 -> מנהל פדגוגי המחצית השלישית | I4: ציון סעיפי האיכות | J4: מחיר משוקלל | K4: ציון המחיר | L4: ציון סופי משוקלל | M4: דירוג יחסי
C7: משקל יחסי => | D7: 0.3 | E7: 0.1 | F7: 0.2 | G7: 0.2 | H7: 0.2 | I7: =SUM(D7:H7) -> 1 | J7: 1 | K7: 1
A8: 1 | C8: ציון מוחלט =>
C9: ציון יחסי =>>
A10: 2 | C10: ציון מוחלט =>
C11: ציון יחסי =>>
A12: 3 | C12: ציון מוחלט =>
C13: ציון יחסי =>>
A14: 4 | C14: ציון מוחלט =>
C15: ציון יחסי =>>
A16: 5 | C16: ציון מוחלט =>
C17: ציון יחסי =>>
A18: 6 | C18: ציון מוחלט =>
C19: ציון יחסי =>>
J20: =MIN(J8,J10,J12,J14,J16,J18) -> 0
B23: משקל סעיפי האיכות | C23: =I3 -> 0.6
B24: משקל מחיר | C24: =K3 -> 0.4
B25: סה"כ | C25: =SUM(C23:C24) -> 1
B27: ציון מעבר מציון כולל של סעיפי האיכות לציון המחיר | C27: 0.8
B29: ציון מינימום נדרש בכל אחד מסעיפי האיכות בפני עצמו הינו | F29: 0.7
